BEGIN:VCALENDAR
VERSION:2.0
PRODID:-// - ECPv6.15.20//NONSGML v1.0//EN
CALSCALE:GREGORIAN
METHOD:PUBLISH
X-ORIGINAL-URL:https://www.henfieldjoggers.co.uk
X-WR-CALDESC:Events for 
REFRESH-INTERVAL;VALUE=DURATION:PT1H
X-Robots-Tag:noindex
X-PUBLISHED-TTL:PT1H
BEGIN:VTIMEZONE
TZID:UTC
BEGIN:STANDARD
TZOFFSETFROM:+0000
TZOFFSETTO:+0000
TZNAME:UTC
DTSTART:20140101T000000
END:STANDARD
END:VTIMEZONE
BEGIN:VTIMEZONE
TZID:Europe/London
BEGIN:DAYLIGHT
TZOFFSETFROM:+0000
TZOFFSETTO:+0100
TZNAME:BST
DTSTART:20120325T010000
END:DAYLIGHT
BEGIN:STANDARD
TZOFFSETFROM:+0100
TZOFFSETTO:+0000
TZNAME:GMT
DTSTART:20121028T010000
END:STANDARD
BEGIN:DAYLIGHT
TZOFFSETFROM:+0000
TZOFFSETTO:+0100
TZNAME:BST
DTSTART:20130331T010000
END:DAYLIGHT
BEGIN:STANDARD
TZOFFSETFROM:+0100
TZOFFSETTO:+0000
TZNAME:GMT
DTSTART:20131027T010000
END:STANDARD
BEGIN:DAYLIGHT
TZOFFSETFROM:+0000
TZOFFSETTO:+0100
TZNAME:BST
DTSTART:20140330T010000
END:DAYLIGHT
BEGIN:STANDARD
TZOFFSETFROM:+0100
TZOFFSETTO:+0000
TZNAME:GMT
DTSTART:20141026T010000
END:STANDARD
BEGIN:DAYLIGHT
TZOFFSETFROM:+0000
TZOFFSETTO:+0100
TZNAME:BST
DTSTART:20150329T010000
END:DAYLIGHT
BEGIN:STANDARD
TZOFFSETFROM:+0100
TZOFFSETTO:+0000
TZNAME:GMT
DTSTART:20151025T010000
END:STANDARD
END:VTIMEZONE
BEGIN:VEVENT
DTSTART;TZID=UTC:20181128T203000
DTEND;TZID=UTC:20181128T213000
DTSTAMP:20260422T115417
CREATED:20161104T103118Z
LAST-MODIFIED:20181004T193013Z
UID:8015-1543437000-1543440600@www.henfieldjoggers.co.uk
SUMMARY:2018 AGM
DESCRIPTION:The Annual General Meeting for Henfield Joggers will be held in Sharkys at Henfield Leisure Centre following the Village Run. Food provided (Hot Dog Meat/Veggie at no cost) and buy your drinks at the bar. \nAGENDA \nMax 1 hour \n\n\n\nMembership Update\nAll\n\n\nTreasurers Report and Accounts (incl Charity Donations)\nLiz\n\n\nEvents Overview\nMark\n\n\nMarathon Place Draw\nPaul\n\n\nThanks\nNikki\n\n\nElection of Committee for 2019\nAndy\n\n\nAoB (Questions will be taken informally after the close of the meeting)
URL:https://www.henfieldjoggers.co.uk/event/2016-agm/
CATEGORIES:Meeting,Other,Social Calendar
END:VEVENT
BEGIN:VEVENT
DTSTART;TZID=UTC:20151202T200000
DTEND;TZID=UTC:20151202T220000
DTSTAMP:20260422T115417
CREATED:20140929T150130Z
LAST-MODIFIED:20151109T133822Z
UID:3720-1449086400-1449093600@www.henfieldjoggers.co.uk
SUMMARY:Annual General Meeting - New Location
DESCRIPTION:Due to the current building work the bar area at Henfield Leisure Centre will be out of action from the end of November until January. Therefore we have a new venue for this years AGM\, the brand new\, recently opened Pavilion at the Tennis Club. Not a big stretch as it is right next door to the Leisure Centre! Please come along and play a part in the running of your Club! Please be prompt at 8pm for an 8:15pm start \n2015 DRAFT AGENDA (to be confirmed) \n\n\n\n\n\nApologies\n\n\n\n\n\n\n\nMembership Update\n\nMembership\nStart Running Course\nSocial\nPub Runs\n\n\n\n\n  \n  \n  \n \n\n\n\n\nTreasurers Report and Accounts\n\n\n\n\n\n\n\n\n\n\n\nMarathon Places – Brighton (not confirmed) & London (1 place confirmed)\n\n\n\n\n\n\n\n\n\n\n\nElection of Committee to cover the following:\n\nClub/Membership Secretary\nTreasurer\nBeginners\nWebsite & PR\nCommunications\nPub Run Coordination\nWest Sussex Fun Run League\nRace Director\n\n\n\n\nHenfield 9\nSouth Downs Way Relay\nSeven Stiles\nHenfield Half\n\n\n\nClub Nights & Committee Coordination\nSocial Activities outside of Club Nights\n\nVolunteers for Sub Committee’s for:\n\nSeven Stiles 2016\nSouth Downs Way Relay 2016\n\n\n\n\n\n\n\n\n\nAoB\n\n\n\nMulled wine run\nCoaching – reflections on 2015 and plans for 2016\nCharity donation\nBoxing Day Run\n\n\n\n\n\n\n\n 
URL:https://www.henfieldjoggers.co.uk/event/annual-general-meeting/
LOCATION:Henfield Tennis Club\, Kings Field\, Northcroft\, Henfield\, BN5 9QB\, United Kingdom
CATEGORIES:All Races,Meeting,Other,Social Calendar
END:VEVENT
BEGIN:VEVENT
DTSTART;TZID=Europe/London:20141231T160000
DTEND;TZID=Europe/London:20141231T173000
DTSTAMP:20260422T115417
CREATED:20141227T174154Z
LAST-MODIFIED:20141231T134050Z
UID:6248-1420041600-1420047000@www.henfieldjoggers.co.uk
SUMMARY:New Years eve run
DESCRIPTION:We are running 5 miles on NYE from HLC at 5pm.
URL:https://www.henfieldjoggers.co.uk/event/new-years-eve-run/
CATEGORIES:Meeting,Training
END:VEVENT
BEGIN:VEVENT
DTSTART;TZID=Europe/London:20141105T190000
DTEND;TZID=Europe/London:20141105T220000
DTSTAMP:20260422T115417
CREATED:20140101T171724Z
LAST-MODIFIED:20140923T194540Z
UID:1851-1415214000-1415224800@www.henfieldjoggers.co.uk
SUMMARY:Monthly Handicap & Club Night
DESCRIPTION:Meet as usual at Henfield Leisure Centre at 7pm. Run the Handicap or your usual route\, then afterwards meet up at The Plough for food from 8.30pm \nThey will whip us up another tasty dinner\, with a veggie option for those that want and like last time\, the cost will be a mere £3.50 – £5.00\, depending on how many of you come. \n\nIn order for The Plough to provide food at such an incredible price\, they will need to know numbers beforehand and I would like to get this info over to them – so please let us know asap\, on one of the following. \nEmail : Lizpamment@gmail.com \nTel/Text : 07768 042028 \nLiz
URL:https://www.henfieldjoggers.co.uk/event/monthly-handicap-club-night-11/
CATEGORIES:All Races,Meeting,Other,Social Calendar
ATTACH;FMTTYPE=image/jpeg:https://www.henfieldjoggers.co.uk/wp-content/uploads/2013/12/Plough.jpg
END:VEVENT
BEGIN:VEVENT
DTSTART;TZID=Europe/London:20141001T190000
DTEND;TZID=Europe/London:20141001T190000
DTSTAMP:20260422T115417
CREATED:20140101T171417Z
LAST-MODIFIED:20140923T194245Z
UID:1850-1412190000-1412190000@www.henfieldjoggers.co.uk
SUMMARY:Monthly Handicap & Club Night
DESCRIPTION:Meet as usual at Henfield Leisure Centre at 7pm. Run the Handicap (returning to the Winter route) or your usual route\, then afterwards meet up at The Plough for food from 8.30pm \nThey will whip us up another tasty dinner\, with a veggie option for those that want and like last time\, the cost will be a mere £3.50 – £5.00\, depending on how many of you come. \n\nIn order for The Plough to provide food at such an incredible price\, they will need to know numbers beforehand and I would like to get this info over to them – so please let us know asap\, on one of the following. \nEmail : Lizpamment@gmail.com \nTel/Text : 07768 042028 \nLiz
URL:https://www.henfieldjoggers.co.uk/event/monthly-handicap-club-night-10/
CATEGORIES:All Races,Meeting,Other,Social Calendar
ATTACH;FMTTYPE=image/jpeg:https://www.henfieldjoggers.co.uk/wp-content/uploads/2013/12/Plough.jpg
END:VEVENT
BEGIN:VEVENT
DTSTART;TZID=Europe/London:20140903T190000
DTEND;TZID=Europe/London:20140903T190000
DTSTAMP:20260422T115417
CREATED:20140101T171050Z
LAST-MODIFIED:20140101T171050Z
UID:1849-1409770800-1409770800@www.henfieldjoggers.co.uk
SUMMARY:Monthly Handicap & Club Night
DESCRIPTION:Meet as usual at Henfield Leisure Centre at 7pm. Run the Handicap (see below) or your usual route\, then afterwards meet up at The Bell for food from 8.30pm \n \nSummer Handicap Course \nThey will whip us up another tasty dinner\, with a veggie option for those that want and like last time\, the cost will be a mere £3.50 – £5.00\, depending on how many of you come. \n\nIn order for the Bell to provide food at such an incredible price\, they will need to know numbers beforehand and I would like to get this info over to them – so please let us know asap\, on one of the following. \nEmail : Lizpamment@gmail.com \nTel/Text : 07768 042028 \nLiz
URL:https://www.henfieldjoggers.co.uk/event/monthly-handicap-club-night-9/
CATEGORIES:All Races,Meeting,Other,Social Calendar
ATTACH;FMTTYPE=image/jpeg:https://www.henfieldjoggers.co.uk/wp-content/uploads/2013/01/thebell.jpg
END:VEVENT
BEGIN:VEVENT
DTSTART;TZID=Europe/London:20140809T100000
DTEND;TZID=Europe/London:20140809T170000
DTSTAMP:20260422T115417
CREATED:20140310T210024Z
LAST-MODIFIED:20140802T145358Z
UID:2211-1407578400-1407603600@www.henfieldjoggers.co.uk
SUMMARY:Downs Day
DESCRIPTION:Saturday August 9th 2014Fresh air\, exercise\, friends\, beautiful scenery\, 2 pubs…… Don’t miss it!Meet at Steyning High Street car park\, ready for 10:15 departure. Route leaves Steyning with fairly steep climb up on to the Downs\, giving fantastic views\, joining South Downs way and after approx 5 miles\, stopping at The Frankland Arms in Washington for a quick drink\, before heading back on the lower path\, (ie flat!) for 3.5 miles\, past Wiston House and entering Steyning via Mouse Lane\, where we can relax\, eat and drink at The Star Inn\, Steyning. Aim is to be in beer garden by 13:45. If you plan on eating\, please let us know before Friday so we may keep the pub informed of numbers. Sample menu here  \nLiz and I will lead the walk\, but please feel welcome to walk\, run\, cycle or just join us at the pub/s. (Cyclists note a number of stiles on our route.) For those in Henfield who fancy more than 1 beer\, the Compass bus may make this possible for you! http://www.compass-travel.co.uk/download/west-sussex-surrey-bus-services/100.pdf \nWeather forecast is looking dry at the moment\, however\, if rain looks to spoil things we will review going ahead. Do hope as many as possible\, with your family / friends\, will join us for a nice easy day. See you there. Gill & Liz
URL:https://www.henfieldjoggers.co.uk/event/downs-day/
LOCATION:The Frankland Arms\, Brighton Road\, Washington\, West Sussex\, RH204AL\, United Kingdom
CATEGORIES:All Races,Meeting,Other,Pub Runs,Social Calendar,Training
ATTACH;FMTTYPE=image/jpeg:https://www.henfieldjoggers.co.uk/wp-content/uploads/2014/03/frankland-arms.jpg
END:VEVENT
BEGIN:VEVENT
DTSTART;TZID=Europe/London:20140604T190000
DTEND;TZID=Europe/London:20140604T220000
DTSTAMP:20260422T115417
CREATED:20131230T205947Z
LAST-MODIFIED:20140521T090036Z
UID:1845-1401908400-1401919200@www.henfieldjoggers.co.uk
SUMMARY:Monthly Handicap & Club Night
DESCRIPTION:For the last Handicap before the usual summer break\, meet as usual at Henfield Leisure Centre at 7pm. Run the Handicap (See below) or your usual route\, then afterwards meet up at The Plough for food from 8.30pm \nThey will whip us up another tasty dinner\, with a veggie option for those that want and like last time\, the cost will be a mere £3.50 – £5.00\, depending on how many of you come. \nSummer Handicap Course\n\nIn order for the Bell to provide food at such an incredible price\, they will need to know numbers beforehand and I would like to get this info over to them – so please let us know asap\, on one of the following. \nEmail : Lizpamment@gmail.com \nTel/Text : 07768 042028 \nLiz
URL:https://www.henfieldjoggers.co.uk/event/monthly-handicap-club-night-8/
LOCATION:The Bell\, High Street\, Henfield\, West Sussex\, BN59HN\, United Kingdom
CATEGORIES:All Races,Meeting,Other,Social Calendar
ATTACH;FMTTYPE=image/jpeg:https://www.henfieldjoggers.co.uk/wp-content/uploads/2013/12/Plough.jpg
END:VEVENT
BEGIN:VEVENT
DTSTART;TZID=Europe/London:20140509T190000
DTEND;TZID=Europe/London:20140509T210000
DTSTAMP:20260422T115417
CREATED:20131127T125002Z
LAST-MODIFIED:20131127T125027Z
UID:1660-1399662000-1399669200@www.henfieldjoggers.co.uk
SUMMARY:Village Evening
DESCRIPTION:This comes around every 4 years and is held at the Village Hall where all Clubs and Associations in and around Henfield share their details and encourage new members to join. \nHenfield Joggers will be manning a stand on the evening – further details to be shared closer to the time. Volunteers to help on the night would be much appreciated – contact me in the first place.
URL:https://www.henfieldjoggers.co.uk/event/village-evening/
CATEGORIES:Meeting,Other,Social Calendar
END:VEVENT
BEGIN:VEVENT
DTSTART;TZID=Europe/London:20140507T190000
DTEND;TZID=Europe/London:20140507T220000
DTSTAMP:20260422T115417
CREATED:20131230T205458Z
LAST-MODIFIED:20140505T173509Z
UID:1844-1399489200-1399500000@www.henfieldjoggers.co.uk
SUMMARY:Monthly Handicap & Club Night
DESCRIPTION:Meet as usual at Henfield Leisure Centre at 7pm. Run the Handicap (see below) or your usual route\, then afterwards meet up at The Plough for food from 8.30pm \nSummer Handicap Course\nThey will whip us up another tasty dinner\, with a veggie option for those that want\, and the cost will be a mere £3.50 – £5.00\, depending on how many of you come. \n\nIn order for them to provide food at such an incredible price\, they will need to know numbers beforehand and I would like to get this info over to them – so please let us know asap\, on one of the following. \nEmail : Lizpamment@gmail.com \nTel/Text : 07768 042028 \nLiz
URL:https://www.henfieldjoggers.co.uk/event/monthly-handicap-club-night-7/
LOCATION:The Plough\, High Street\, Henfield\, West Sussex\, BN59HP\, United Kingdom
CATEGORIES:All Races,Meeting,Other,Social Calendar
ATTACH;FMTTYPE=image/jpeg:https://www.henfieldjoggers.co.uk/wp-content/uploads/2013/12/Plough.jpg
END:VEVENT
BEGIN:VEVENT
DTSTART;TZID=Europe/London:20140402T080000
DTEND;TZID=Europe/London:20140402T170000
DTSTAMP:20260422T115417
CREATED:20131230T205306Z
LAST-MODIFIED:20131230T210256Z
UID:1843-1396425600-1396458000@www.henfieldjoggers.co.uk
SUMMARY:Monthly Handicap & Club Night
DESCRIPTION:Meet as usual at Henfield Leisure Centre at 7pm. Run the Handicap on the first Summer route of 2014 (see below)\, or your usual route\, then afterwards meet up at The Bell for food from 8.30pm \n \nThey will whip us up another tasty dinner\, with a veggie option for those that want and like last time\, the cost will be a mere £3.50 – £5.00\, depending on how many of you come. \n\nIn order for the Bell to provide food at such an incredible price\, they will need to know numbers beforehand and I would like to get this info over to them – so please let us know asap\, on one of the following. \nEmail : Lizpamment@gmail.com \nTel/Text : 07768 042028 \nLiz
URL:https://www.henfieldjoggers.co.uk/event/monthly-handicap-club-night-6/
LOCATION:The Bell\, High Street\, Henfield\, West Sussex\, BN59HN\, United Kingdom
CATEGORIES:All Races,Meeting,Other,Social Calendar
ATTACH;FMTTYPE=image/jpeg:https://www.henfieldjoggers.co.uk/wp-content/uploads/2013/01/thebell.jpg
END:VEVENT
BEGIN:VEVENT
DTSTART;TZID=Europe/London:20140305T080000
DTEND;TZID=Europe/London:20140305T170000
DTSTAMP:20260422T115417
CREATED:20131230T204942Z
LAST-MODIFIED:20131230T210526Z
UID:1841-1394006400-1394038800@www.henfieldjoggers.co.uk
SUMMARY:Monthly Handicap & Club Night
DESCRIPTION:Meet as usual at Henfield Leisure Centre at 7pm. Run the Handicap (for the final Winter route before September) or your usual route\, then afterwards meet up at The Bell for food from 8.30pm \nThey will whip us up another tasty dinner\, with a veggie option for those that want and like last time\, the cost will be a mere £3.50 – £5.00\, depending on how many of you come. \n\nIn order for the Bell to provide food at such an incredible price\, they will need to know numbers beforehand and I would like to get this info over to them – so please let us know asap\, on one of the following. \nEmail : Lizpamment@gmail.com \nTel/Text : 07768 042028 \nLiz
URL:https://www.henfieldjoggers.co.uk/event/monthly-handicap-club-night-4/
LOCATION:The Bell\, High Street\, Henfield\, West Sussex\, BN59HN\, United Kingdom
CATEGORIES:All Races,Meeting,Other,Social Calendar
ATTACH;FMTTYPE=image/jpeg:https://www.henfieldjoggers.co.uk/wp-content/uploads/2013/01/thebell.jpg
END:VEVENT
BEGIN:VEVENT
DTSTART;TZID=Europe/London:20140108T190000
DTEND;TZID=Europe/London:20140108T220000
DTSTAMP:20260422T115417
CREATED:20131229T134951Z
LAST-MODIFIED:20131229T134951Z
UID:1743-1389207600-1389218400@www.henfieldjoggers.co.uk
SUMMARY:Monthly Handicap and Club Night
DESCRIPTION:Its a big HELLO to 2014 and lets work off some of that Christmas over-indulgence with our first meeting of the year! Meet as usual at Henfield Leisure Centre at 7pm. Run the Handicap (3.5 miles around the streets of Henfield) or your usual route\, then afterwards meet up at The Bell for food from 8.30pm \nThey will whip us up another tasty dinner\, with a veggie option for those that want and like last time\, the cost will be a mere £3.50 – £5.00\, depending on how many of you come. \n\nIn order for the Bell to provide food at such an incredible price\, they will need to know numbers beforehand and I would like to get this info over to them – so please let us know asap\, on one of the following. \nEmail : Lizpamment@gmail.com \nTel/Text : 07768 042028 \nLiz
URL:https://www.henfieldjoggers.co.uk/event/monthly-handicap-and-club-night/
LOCATION:The Bell\, High Street\, Henfield\, West Sussex\, BN59HN\, United Kingdom
CATEGORIES:All Races,Meeting,Other,Social Calendar,Training
ATTACH;FMTTYPE=image/jpeg:https://www.henfieldjoggers.co.uk/wp-content/uploads/2013/01/thebell.jpg
ORGANIZER;CN="Liz Pamment":MAILTO:Lizpamment@gmail.com
END:VEVENT
BEGIN:VEVENT
DTSTART;TZID=Europe/London:20131230T080000
DTEND;TZID=Europe/London:20131230T170000
DTSTAMP:20260422T115417
CREATED:20131230T205102Z
LAST-MODIFIED:20131230T205121Z
UID:1842-1388390400-1388422800@www.henfieldjoggers.co.uk
SUMMARY:Monthly Handicap & Club Night
DESCRIPTION:Meet as usual at Henfield Leisure Centre at 7pm. Run the Handicap (3.5 miles around the streets of Henfield) or your usual route\, then afterwards meet up at The Bell for food from 8.30pm \nThey will whip us up another tasty dinner\, with a veggie option for those that want and like last time\, the cost will be a mere £3.50 – £5.00\, depending on how many of you come. \n\nIn order for the Bell to provide food at such an incredible price\, they will need to know numbers beforehand and I would like to get this info over to them – so please let us know asap\, on one of the following. \nEmail : Lizpamment@gmail.com \nTel/Text : 07768 042028 \nLiz
URL:https://www.henfieldjoggers.co.uk/event/monthly-handicap-club-night-5/
LOCATION:The Bell\, High Street\, Henfield\, West Sussex\, BN59HN\, United Kingdom
CATEGORIES:All Races,Meeting,Other,Social Calendar
ATTACH;FMTTYPE=image/jpeg:https://www.henfieldjoggers.co.uk/wp-content/uploads/2013/01/thebell.jpg
END:VEVENT
BEGIN:VEVENT
DTSTART;TZID=Europe/London:20131221T190000
DTEND;TZID=Europe/London:20131221T190000
DTSTAMP:20260422T115417
CREATED:20131004T104750Z
LAST-MODIFIED:20131030T101542Z
UID:1450-1387652400-1387652400@www.henfieldjoggers.co.uk
SUMMARY:Christmas Bash!
DESCRIPTION:You are cordially invited to the HJs Christmas social.\n\nThe Fountain Skittle Room\nOn: Saturday 21st December 2013\nAt :7.30pm\nVenue:The Fountain Inn\, Ashurst\, BN44 3AP \n\n\n£16.50 per person\, including 10% tip – 2 course supper and Skittles game/s.\nPartners welcome – book early to avoid disappointment!\nTo confirm your place payment in full may be made to Gill or Liz at our October or November club nights\, with your menu choice – choose from:\nHandmade Sussex Beef Burger\, Toasted Sour Dough Bun\, Fountain Burger Sauce\, Iceberg\, Tomato\, Onion & Cheese. Served with Rustic Chips\n\nRoasted Beetroot & Goats Cheese Tart\, Potato & Shaved Beetroot Salad\, Beetroot Chutney\, Mascarpone Cheese.\nRoasted Skin On Chicken\, Bubble & Squeak Cake\, Steamed Greens\, Bordelaise Sauce.\n###\nChocolate Brownie\, Salted Caramel Sauce\, Vanilla Ice Cream\nMince Pie Sundae – Cognac Soaked Fruits\, Crushed Shortbread\, Vanilla Ice Cream\, Whipped Cream.\nSussex Cheese & Biscuits\, Apple & Wilted Fennel Salad\n###\nDrinks\, coffees\, anything additional may be purchased individually on the night.\nTorches for the walk home\, or plan ahead with booking a taxi – some options:\nBarry 01403 710975\nDave 07500 893599 or 01403 710710\nJohnny 07768 983632\nHenfield Village Cars 01273 491888\nMark 07711 467267 (mention Gill’s name).\n 
URL:https://www.henfieldjoggers.co.uk/event/christmas-bash/
LOCATION:The Fountain\, Ashurst\, West Sussex\, BN443AP\, United Kingdom
CATEGORIES:All Races,Meeting,Other,Social Calendar
END:VEVENT
BEGIN:VEVENT
DTSTART;TZID=Europe/London:20131218T190000
DTEND;TZID=Europe/London:20131218T210000
DTSTAMP:20260422T115417
CREATED:20131029T220618Z
LAST-MODIFIED:20131029T220618Z
UID:1527-1387393200-1387400400@www.henfieldjoggers.co.uk
SUMMARY:Festive Fun Run (aka The Mince Pie Five)
DESCRIPTION:Alright I made all this up – it may be 5 Hundred Yards\, 5 Thousand Yards\, or 5 Flaming Mince Pie Miles – its up to you! However at some point en-route on whatever route you’re following there will be a mince pie/mulled wine (other drinks will be available) pit stop at Brian and Jackie Griffiths house. Sadly\, we will have to LEAVE their house at some point to finish the run – though whether Hugh will still remember the route after taking alcohol is anyones guess (its always anyones guess – Ed!) \nAddress details will be in a weekly Email \nDress festively – Rudolphs Red Nosed Runners R’us!
URL:https://www.henfieldjoggers.co.uk/event/festive-fun-run-aka-the-mince-pie-five/
CATEGORIES:Meeting,Other,Training
END:VEVENT
BEGIN:VEVENT
DTSTART;TZID=Europe/London:20131211T200000
DTEND;TZID=Europe/London:20131211T230000
DTSTAMP:20260422T115417
CREATED:20131020T154026Z
LAST-MODIFIED:20131209T094326Z
UID:1512-1386792000-1386802800@www.henfieldjoggers.co.uk
SUMMARY:Henfield Joggers Annual General Meeting 2013
DESCRIPTION:Make a note in your diaries for this important event – to be held at the Henfield Leisure Centre in the bar kicking off at 8pm with a free glass of wine\, bottle of lager or lemonade! \nTasty hot dogs will be served followed by a sweet treat. – please note the start time\, we need to make sure that we cover everything before people fall asleep! \nThe HLC bar will then be open to replenish our free stock and aid your enjoyment to the eve! \nAGENDA \n\n\n\n\n\nIntro &  Apologies\n\n\n\nPaul \n\n\n\n\n\nMembership Update\n\n\n\nGill/Liz \n\n\n\n\n\nTreasurers Report and Accounts incl 2014 Subscriptions\n\n\n\nLesley/Brian \n\n\n\n\n\nRace Overview 2013 – \n\n\n\nMark/Paul \n\n\n\n\n\nPub Run Review 2013 – plans for 2014\n\n\n\nHugh \n\n\n\n\n\n2014 Kit\n\n\n\nLiz \n\n\n\n\n\nHandicap Trophy\n\n\n\nChris Bradfield \n\n\n\n\n\nAwards:\n\n\n\nPaul/Mark \n\n\n\n\n\nMarathon Places – Brighton & London\n\n\n\nPaul \n\n\n\n\n\nThanks to:\n\n\n\nMark/Paul \n\n\n\n\n\nElection of Committee\n\n\n\nAll \n\n\n\n\n\nAoB\n\n\n\nMulled wine run\n\n\n\n\nAll
URL:https://www.henfieldjoggers.co.uk/event/henfield-joggers-annual-general-meeting-2013/
CATEGORIES:All Races,Meeting,Other,Social Calendar
END:VEVENT
BEGIN:VEVENT
DTSTART;TZID=Europe/London:20131204T190000
DTEND;TZID=Europe/London:20131204T220000
DTSTAMP:20260422T115417
CREATED:20131030T104500Z
LAST-MODIFIED:20131030T104500Z
UID:1539-1386183600-1386194400@www.henfieldjoggers.co.uk
SUMMARY:Monthly Handicap & Club Night
DESCRIPTION:Meet as usual at Henfield Leisure Centre at 7pm. Run the Handicap (3.5 miles around the streets of Henfield) or your usual route\, then afterwards meet up at The Bell for food from 8.30pm \nThey will whip us up another tasty dinner\, with a veggie option for those that want and like last time\, the cost will be a mere £3.50 – £5.00\, depending on how many of you come. \n\nIn order for the Bell to provide food at such an incredible price\, they will need to know numbers beforehand and I would like to get this info over to them – so please let us know asap\, on one of the following. \nEmail : Lizpamment@gmail.com \nTel/Text : 07768 042028 \nLiz
URL:https://www.henfieldjoggers.co.uk/event/monthly-handicap-club-night-2/
CATEGORIES:All Races,Meeting,Other,Social Calendar
ATTACH;FMTTYPE=image/jpeg:https://www.henfieldjoggers.co.uk/wp-content/uploads/2013/01/thebell.jpg
END:VEVENT
BEGIN:VEVENT
DTSTART;TZID=Europe/London:20131106T190000
DTEND;TZID=Europe/London:20131106T220000
DTSTAMP:20260422T115417
CREATED:20131030T102104Z
LAST-MODIFIED:20131030T102735Z
UID:1537-1383764400-1383775200@www.henfieldjoggers.co.uk
SUMMARY:Monthly Handicap & Club Night
DESCRIPTION:Meet as usual at Henfield Leisure Centre at 7pm. Run the Handicap (3.5 miles around the streets of Henfield) or your usual route\, then afterwards meet up at The Bell for food from 8.30pm \nThey will whip us up another tasty dinner\, with a veggie option for those that want and like last time\, the cost will be a mere £3.50 – £5.00\, depending on how many of you come. \n\nIn order for the Bell to provide food at such an incredible price\, they will need to know numbers beforehand and I would like to get this info over to them – so please let us know asap\, on one of the following. \nEmail : Lizpamment@gmail.com \nTel/Text : 07768 042028 \nLiz
URL:https://www.henfieldjoggers.co.uk/event/monthly-handicap-club-night/
CATEGORIES:Meeting,Other,Social Calendar
ATTACH;FMTTYPE=image/jpeg:https://www.henfieldjoggers.co.uk/wp-content/uploads/2013/01/thebell.jpg
END:VEVENT
END:VCALENDAR