BEGIN:VCALENDAR
VERSION:2.0
PRODID:-// - ECPv6.15.20//NONSGML v1.0//EN
CALSCALE:GREGORIAN
METHOD:PUBLISH
X-ORIGINAL-URL:https://www.henfieldjoggers.co.uk
X-WR-CALDESC:Events for 
REFRESH-INTERVAL;VALUE=DURATION:PT1H
X-Robots-Tag:noindex
X-PUBLISHED-TTL:PT1H
BEGIN:VTIMEZONE
TZID:UTC
BEGIN:STANDARD
TZOFFSETFROM:+0000
TZOFFSETTO:+0000
TZNAME:UTC
DTSTART:20140101T000000
END:STANDARD
END:VTIMEZONE
BEGIN:VTIMEZONE
TZID:Europe/London
BEGIN:DAYLIGHT
TZOFFSETFROM:+0000
TZOFFSETTO:+0100
TZNAME:BST
DTSTART:20120325T010000
END:DAYLIGHT
BEGIN:STANDARD
TZOFFSETFROM:+0100
TZOFFSETTO:+0000
TZNAME:GMT
DTSTART:20121028T010000
END:STANDARD
BEGIN:DAYLIGHT
TZOFFSETFROM:+0000
TZOFFSETTO:+0100
TZNAME:BST
DTSTART:20130331T010000
END:DAYLIGHT
BEGIN:STANDARD
TZOFFSETFROM:+0100
TZOFFSETTO:+0000
TZNAME:GMT
DTSTART:20131027T010000
END:STANDARD
BEGIN:DAYLIGHT
TZOFFSETFROM:+0000
TZOFFSETTO:+0100
TZNAME:BST
DTSTART:20140330T010000
END:DAYLIGHT
BEGIN:STANDARD
TZOFFSETFROM:+0100
TZOFFSETTO:+0000
TZNAME:GMT
DTSTART:20141026T010000
END:STANDARD
BEGIN:DAYLIGHT
TZOFFSETFROM:+0000
TZOFFSETTO:+0100
TZNAME:BST
DTSTART:20150329T010000
END:DAYLIGHT
BEGIN:STANDARD
TZOFFSETFROM:+0100
TZOFFSETTO:+0000
TZNAME:GMT
DTSTART:20151025T010000
END:STANDARD
BEGIN:DAYLIGHT
TZOFFSETFROM:+0000
TZOFFSETTO:+0100
TZNAME:BST
DTSTART:20160327T010000
END:DAYLIGHT
BEGIN:STANDARD
TZOFFSETFROM:+0100
TZOFFSETTO:+0000
TZNAME:GMT
DTSTART:20161030T010000
END:STANDARD
END:VTIMEZONE
BEGIN:VEVENT
DTSTART;TZID=UTC:20160608T193000
DTEND;TZID=UTC:20160608T203000
DTSTAMP:20260421T181041
CREATED:20130124T202200Z
LAST-MODIFIED:20151228T165209Z
UID:464-1465414200-1465417800@www.henfieldjoggers.co.uk
SUMMARY:Beach Run 5 mile - Fun Run
DESCRIPTION:This event is unique to the league as it is the only run on a beach. It’s an out and back course of about 5 miles along the sandy beach in Littlehampton\, starting on the green near the coastguard tower at 7:30pm and then heading east on the beach towards Worthing\, moving between the beach itself and the beachside path. The turning point is at a drinks station due south of Pigeon House Lane\, East Preston from where the runners will return back along the sand to Littlehampton\, finishing in the same part of the green near the coastguard tower. \nCertainly not hilly – though graded a Paulie 2 because running along a beach/shingle is always harder than road or a hard trail\, but on a summers eve\, what could be better?! \nGive Danielle your names before 4th June and its just £3 – simply splendid!
URL:https://www.henfieldjoggers.co.uk/event/west-sussex-fun-run-league-beach-run-5m/
LOCATION:Windmill Harvester Restaurant (on the Green next to it)\, Coastguard Road\, Littlehampton\, West Sussex\, BN17 5LH
CATEGORIES:All Races,Fun Runs,Other
ATTACH;FMTTYPE=image/jpeg:https://www.henfieldjoggers.co.uk/wp-content/uploads/2013/01/Beach-Run.jpg
ORGANIZER;CN="Andy James":MAILTO:andyjames.messages@gmail.com
END:VEVENT
BEGIN:VEVENT
DTSTART;TZID=UTC:20160131T093000
DTEND;TZID=UTC:20160131T110000
DTSTAMP:20260421T181041
CREATED:20141205T094832Z
LAST-MODIFIED:20151228T170422Z
UID:5849-1454232600-1454238000@www.henfieldjoggers.co.uk
SUMMARY:Worthing Splash Point 4 mile Fun Run
DESCRIPTION:Fun run\, renamed the Splashpoint 4… More details to follow
URL:https://www.henfieldjoggers.co.uk/event/worthing-splashpoint-4-mile-run/
LOCATION:Worthing Splash Point\, Worthing Sea Front\, Worthing\, Bn11 2en\, United Kingdom
CATEGORIES:All Races,Fun Runs
END:VEVENT
BEGIN:VEVENT
DTSTART;TZID=UTC:20151101T110000
DTEND;TZID=UTC:20151101T120000
DTSTAMP:20260421T181041
CREATED:20130124T151559Z
LAST-MODIFIED:20151026T085756Z
UID:431-1446375600-1446379200@www.henfieldjoggers.co.uk
SUMMARY:West Sussex Fun Run League - Foxtrot Five - CANCELLED!!!!!
DESCRIPTION:Rearranged from earlier in the year! Definitely the FINAL fun run of 2015\, so fill yer boots!!! \nThe course is approximately 5 miles\, run along the banks of the River Adur. Flat\, multi-terrain including some gates/stiles. No dogs please. The start will be on the east side of the river about a 10 minute walk from race HQ. \nPLEASE ALLOW TIME TO GET TO THE START. \nCar parking can be difficult at the Outdoor Activities centre\, parking in Shoreham near Ropetackle Walk may be better\, but allow time to et to the start \nThere is also a Junior run of approximately 1 mile at 10:15 a.m. on the recreation ground adjacent to the HQ
URL:https://www.henfieldjoggers.co.uk/event/west-sussex-fun-run-league-foxtrot-five/
LOCATION:Adur Outdoor Activities Centre\, Brighton Road\, Shoreham on Sea\, West Sussex\, BN43 5LT\, United Kingdom
CATEGORIES:All Races,Fun Runs
ATTACH;FMTTYPE=image/jpeg:https://www.henfieldjoggers.co.uk/wp-content/uploads/2013/01/foxtrot-1.jpg
ORGANIZER;CN="Andy James":MAILTO:andyjames.messages@gmail.com
END:VEVENT
BEGIN:VEVENT
DTSTART;TZID=Europe/London:20150315T110000
DTEND;TZID=Europe/London:20150315T130000
DTSTAMP:20260421T181041
CREATED:20141205T095505Z
LAST-MODIFIED:20150303T161228Z
UID:5854-1426417200-1426424400@www.henfieldjoggers.co.uk
SUMMARY:Foxtrot 5 Miler CANCELLED!!!!
DESCRIPTION:THIS EVENT HAS BEEN CANCELLED
URL:https://www.henfieldjoggers.co.uk/event/foxtrot-5-miler/
LOCATION:Adur Outdoor Activities Centre\, Brighton Road\, Shoreham on Sea\, West Sussex\, BN43 5LT\, United Kingdom
CATEGORIES:All Races,Fun Runs
END:VEVENT
BEGIN:VEVENT
DTSTART;TZID=Europe/London:20150215T100000
DTEND;TZID=Europe/London:20150215T120000
DTSTAMP:20260421T181041
CREATED:20141205T095234Z
LAST-MODIFIED:20150208T210514Z
UID:5852-1423994400-1424001600@www.henfieldjoggers.co.uk
SUMMARY:Valentine's 5 Miles
DESCRIPTION:New 5 miles distance\, now almost entirely off road. \nLOCATION: The event takes place in Southwater\, just south of Horsham. If using satnav\, use RH13 9JJ for Race car park. The car park\, Race HQ\, start and finish are all located in different places\, so please follow directional signage. A detailed location map is available Valentines Run Course Map and Description 2015. \nCOURSE: Approximately 5 miles\, flat multi-terrain course\, largely off-road on bridleways and footpaths. Two short sections of the course involve country roads\, which will not be closed\, so please be alert for traffic and take care. Water station at finish line. Not suitable for U16s or wheelchair athletes. Disabled runners\, please contact Race Director at horshamjoggers@googlemail.com to discuss the course before entering. \nCOURSE MAP: Available here: https://horshamjoggers.files.wordpress.com/2014/10/valentines-run-course-map-and-description-2015.pdf \n10.am start at Southwater Village Hall\, Church Lane RH13 9BT
URL:https://www.henfieldjoggers.co.uk/event/valentines-7km/
LOCATION:Southwater Village Hall\, Church Lane\, Southwater\, West Sussex\, RH13 9JJ\, United Kingdom
CATEGORIES:All Races,Fun Runs
END:VEVENT
BEGIN:VEVENT
DTSTART;TZID=Europe/London:20140824T100000
DTEND;TZID=Europe/London:20140824T120000
DTSTAMP:20260421T181041
CREATED:20140717T122158Z
LAST-MODIFIED:20140717T122242Z
UID:3072-1408874400-1408881600@www.henfieldjoggers.co.uk
SUMMARY:Hornet Stinger - Fun Run 9.5k
DESCRIPTION:Hove Hornets welcome you to their first race as members of the WSFRL. This is a new race\, a challenging cross-country course over 9.5km of the Downs with spectacular views\, which includes hills\, stiles and varied terrain. The race start is one mile from the clubhouse on the eastern arm of Waterhall Road so leave yourself 15/20 minutes to walk/jog from the clubhouse across the grass to just beyond the underpass. The finish is on the rugby club pitches in front of the Rugby clubhouse. The course is approximately 9.5 kilometres along public bridleways and footpaths. The ground consists of chalk with flint exposed and grass. It is very uneven especially in the first 2 kilometres where there are deep tractor ruts often containing water. On the return the field at 8K is badly pitted by cattle hooves on a moderate downhill gradient. Please proceed with extreme caution – you can make up time later! At the beginning of the race\, there is a steep gradient and sharp right turn after which the climbs are less severe. There is a second steep gradient after approx. 5 kilometres\, out of Saddlescombe Farm\, where water is available. It is likely that the uneven terrain and stiles will produce reduced race times – but a great run! The course will be marked by kilometre signs (approx.distances only) and direction arrows \nLOCATION \nThe race is at Waterhall Playing Fields\, Waterhall Road\, Brighton\, BN1 8YR (Registration at Brighton Blues Rugby clubhouse) \nFACILITIES \nThe race HQ is located in the clubhouse of the Brighton Blues Rugby Club. Refreshments provided by the Rugby club will be on sale at the clubhouse before and after the race. The clubhouse also provides a great place to have a drink/food/chat after the race. Please take advantage of it. Without the Rugby club’s assistance this race would not be possible and we ask that you respect their premises and staff. Collection of race numbers\, on the day entries and enquiries about the race will take place in the clubhouse. Changing rooms and showers are located on the lower ground floor. Toilets are located inside the clubhouse as per direction signs. A free bag storage service will be available but\, as usual\, used at your own risk The car park is to the right as you arrive at the clubhouse. There is room for about 130 vehicles. The area is not supervised during the race \nROUTE
URL:https://www.henfieldjoggers.co.uk/event/hornet-stinger-fun-run-9-5k/
LOCATION:Waterhall Playing Fields\, Waterhall Road\, Brighton\, West Sussex\, BN1 8YR\, United Kingdom
CATEGORIES:All Races,Fun Runs,Other
ATTACH;FMTTYPE=image/jpeg:https://www.henfieldjoggers.co.uk/wp-content/uploads/2014/07/Hornet-Stinger.jpg
ORGANIZER;CN="Paul Crowe":MAILTO:enquiries@henfieldjoggers.co.uk
END:VEVENT
BEGIN:VEVENT
DTSTART;TZID=Europe/London:20140421T111500
DTEND;TZID=Europe/London:20140421T130000
DTSTAMP:20260421T181041
CREATED:20130124T152630Z
LAST-MODIFIED:20140131T081107Z
UID:436-1398078900-1398085200@www.henfieldjoggers.co.uk
SUMMARY:Lewes 10k - Fun Run
DESCRIPTION:Starting on the athletics track at Lewes Leisure Centre this multi-terrain 10k race heads out towards Kingston before looping back into Lewes\, briefly on paved roads before heading back into the stadium area to finish on the track in style! \nI grade this a Paulie level 2 on my scale – its a trail 10k that can vary according to the weather so don’t expect any PB’s\, but its a great run and perfect for your first 10k – it was mine! \n10.30 am Toddlers Trot\n10.40 am 1 mile\n10.50 am 2 mile\n11.15 am 10K \nAs in previous years\, runners and their family members can use the local leisure centre facilities for a subsidised swim. \nThe introduction 2 years ago of the 1 mile has proven to be more popular than originally thought\, so maybe worth considering along with the 2 mile if you don’t fancy the 10k (although not part of the Fun Runs – they need separate entry which you need to do yourself) \nAlso\, in an endeavour to make the 1 mile race fun and competitive\, we are trialling a new route: starting on the track\, through the local school grounds\, onto the local lane\, and back onto the track for a final lap. We are measuring to get the distance precise.
URL:https://www.henfieldjoggers.co.uk/event/west-sussex-fun-run-league-lewes-10k/
LOCATION:Lewes Leisure Centre\, Mountfield Road\, Lewes\, BN7 2XG\, United Kingdom
CATEGORIES:All Races,Fun Runs,Other
ATTACH;FMTTYPE=image/jpeg:https://www.henfieldjoggers.co.uk/wp-content/uploads/2013/01/Lewes-Track.jpg
ORGANIZER;CN="Paul Crowe":MAILTO:enquiries@henfieldjoggers.co.uk
END:VEVENT
BEGIN:VEVENT
DTSTART;TZID=Europe/London:20140316T110000
DTEND;TZID=Europe/London:20140316T130000
DTSTAMP:20260421T181041
CREATED:20131229T165414Z
LAST-MODIFIED:20140312T222509Z
UID:1752-1394967600-1394974800@www.henfieldjoggers.co.uk
SUMMARY:Foxes 5 Mile - Fun Run
DESCRIPTION:The Headquarters for this run is the Adur Outdoor Centre (on the opposite side of the river\, across the bridge\, from Ropetackle) in Shoreham. \nMeet afterwards at The Bridge Inn\, 87 Hight Street\, Shoreham for a drink and/or meal – but please let Gill or Liz know so we can book a table! \nThe race is 5 miles and flat up and down the river bank\, which qualifies it as a Paulie Grade 1 in my book – though bear in mind that for some reason it has been dogged by bad weather in recent years\, despite a move from November to earlier in the year to try to avoid this! \nPlease note that the race actually starts about 200m NORTH along the river on the Ropetackle side – so bear that in mind if you’re just aiming for the Race HQ – allow a good 10 and preferably 15 mins to get to the start \nAs always\, for Henfield Joggers only\, let me have your details by 13th March and I will sort your number out for a paltry £2 – or pay £5 on the day
URL:https://www.henfieldjoggers.co.uk/event/foxes-5-mile-fun-run/
LOCATION:Adur Outdoor Activities Centre\, Brighton Road\, Shoreham on Sea\, West Sussex\, BN43 5LT\, United Kingdom
CATEGORIES:All Races,Fun Runs,Other
ORGANIZER;CN="Paul Crowe":MAILTO:enquiries@henfieldjoggers.co.uk
END:VEVENT
BEGIN:VEVENT
DTSTART;TZID=Europe/London:20140202T100000
DTEND;TZID=Europe/London:20140202T113000
DTSTAMP:20260421T181041
CREATED:20131229T162646Z
LAST-MODIFIED:20140128T181012Z
UID:1750-1391335200-1391340600@www.henfieldjoggers.co.uk
SUMMARY:Valentines 3.5 Mile - Fun Run
DESCRIPTION:The Valentine’s Run is a multi-terrain race of approximately 3.5 miles\, becoming famous for its post-race home-made cakes.  Organised by the Horsham Joggers\, it is part of the West Sussex Fun Run League. Start is at 10am and Race HQ is the Southwater Scout & Guide Jubilee HQ (note that this is new this year – and its a 10 minute walk to the start so allow plenty of time!) Under the 2014 ‘Paulie’ scale I grade this as a 2 – its mostly flat but the almost inevitable presence of what is usually pretty thick MUD makes this slightly tougher than normal – dress for the conditions and watch the weather. But its FUN! As usual\, for Henfield Joggers only\, book in advance through me before 30th January and I’ll sort your number out all for £2!\n \nUpdate: Tuesday 28th January\nThe race team walked the course yesterday\, and it’s looking OK at the moment – about the same as last year\, if not a bit better.  So we’re expecting to go ahead on Sunday as planned.  Obviously\, things could still change and I will of course let you know in that unlikely event (at least snow isn’t in the offing like 2012!) – the final course walk is on Saturday. \nFor old hands\, please note that the location of Race HQ has changed this year – it’s in the same road (Church Road)\, but a different hut (Scouts and Guides\, rather than the Church Hall).
URL:https://www.henfieldjoggers.co.uk/event/valentines-3-5-mile-fun-run/
LOCATION:Southwater Village Hall\, Church Lane\, Southwater\, West Sussex\, RH13 9JJ\, United Kingdom
CATEGORIES:All Races,Fun Runs,Other
ATTACH;FMTTYPE=image/jpeg:https://www.henfieldjoggers.co.uk/wp-content/uploads/2013/12/Southwater-Scout.jpg
END:VEVENT
BEGIN:VEVENT
DTSTART;TZID=Europe/London:20140126T103000
DTEND;TZID=Europe/London:20140126T123000
DTSTAMP:20260421T181041
CREATED:20131229T135941Z
LAST-MODIFIED:20131229T145142Z
UID:1744-1390732200-1390739400@www.henfieldjoggers.co.uk
SUMMARY:Worthing Lido 4 Mile - Fun Run
DESCRIPTION:Under Pauls 2014 ‘Grading’ scheme this is Grade 1 – Totally Flat! In fact it doesn’t come much flatter than this! Usually a glorious day and for many the very first race of the year – for others a really good ‘first race’. \nCourse\nThe course is a flat out and back 4 miles heading West along Worthing promenade. A small portion of the course is run on grass. \nParking\nOn street parking is very limited close to the start the area\, we recommend using the towns multi-story car parks (the easiest is directly across the road above the bowling alley and M&S)\, or the roads approx 800m to the West of the start location. \nBag Storage\nAdjacent to the race office is temporary storage for participants belongings during the race. Please note that space is limited and we cannot accept any responsibility for items left. \nRefreshments\nAvailable in the Lido adjacent to the Start/Finish. \nStart Location\nWorthing promenade\, outside the Lido. \nAs always\, for Henfield Joggers only\, book through me in advance an I’ll sort your number out for you and all for a mere £2 – let me know by 23rd January please.
URL:https://www.henfieldjoggers.co.uk/event/worthing-lido-4-mile-fun-run/
LOCATION:Worthing Splash Point\, Worthing Sea Front\, Worthing\, Bn11 2en\, United Kingdom
CATEGORIES:All Races,Fun Runs
ATTACH;FMTTYPE=image/jpeg:https://www.henfieldjoggers.co.uk/wp-content/uploads/2013/12/Worthing-Lido.jpg
ORGANIZER;CN="Paul Crowe":MAILTO:enquiries@henfieldjoggers.co.uk
END:VEVENT
BEGIN:VEVENT
DTSTART;TZID=Europe/London:20130914T160000
DTEND;TZID=Europe/London:20130914T180000
DTSTAMP:20260421T181041
CREATED:20130124T211518Z
LAST-MODIFIED:20130830T093637Z
UID:484-1379174400-1379181600@www.henfieldjoggers.co.uk
SUMMARY:West Sussex Fun Run League - Seven Stiles
DESCRIPTION:WSFRL 2013 Fixture 15 \nWhat can we say! Its our very own race\, starting from the Leisure \nSeven Stiles\nCentre and down to the banks of the Adur via the Downslink\, and back on a pretty flat and fast course of varied scenery\, and are there REALLY seven stiles? Most of us will be organising\, marshalling and generally helping out\, so not that many HJ runners have actually completed this race! \nHenfield Joggers only\, it’s £2 if you book in advance\, but as I will be on holiday for 2 weeks beforehand please do NOT contact me about this\, book in directly with Gayle at:  sevenstiles@henfieldjoggers.co.uk as she is the Race Secretary. That’s if you’re not marshalling\, of course\, in which case you should contact Hugh or Mark
URL:https://www.henfieldjoggers.co.uk/event/west-sussex-fun-run-league-seven-stiles/
LOCATION:Henfield Leisure Centre\, Northcroft\, Henfield\, West Sussex\, BN5 9QB\, United Kingdom
CATEGORIES:All Races,Fun Runs
END:VEVENT
BEGIN:VEVENT
DTSTART;TZID=Europe/London:20130210T100000
DTEND;TZID=Europe/London:20130210T110000
DTSTAMP:20260421T181041
CREATED:20130108T204310Z
LAST-MODIFIED:20130124T150317Z
UID:180-1360490400-1360494000@www.henfieldjoggers.co.uk
SUMMARY:West Sussex Fun Run League - Valentines Run 3.5M
DESCRIPTION:WSFRL 2013 Fixture 3 \nThe Valentines run is a multi-terrain trail of approximately 3.5 miles. One thing\, from experience\, to bear in mind is that it will inevitably involve one VERY muddy and flat stretch….expect to get down and dirty! Great fun and the cakes afterwards are famous
URL:https://www.henfieldjoggers.co.uk/event/valentines-run-the-valentines-run-is-a-multi-terrain-race-of-approximately-3-5-miles-it-is-held-every-year-in-february-and-is-becoming-famous-for-its-post-race-home-made-cakthe-valentine/
LOCATION:Southwater Village Hall\, Church Lane\, Southwater\, West Sussex\, RH13 9JJ\, United Kingdom
CATEGORIES:All Races,Fun Runs
END:VEVENT
BEGIN:VEVENT
DTSTART;TZID=Europe/London:20130127T103000
DTEND;TZID=Europe/London:20130127T120000
DTSTAMP:20260421T181041
CREATED:20130107T152055Z
LAST-MODIFIED:20130125T095521Z
UID:138-1359282600-1359288000@www.henfieldjoggers.co.uk
SUMMARY:West Sussex Fun Run League - Worthing Lido 4 Mile
DESCRIPTION:WSFRL 2013 Fixture 2 \n\n\nDistance\nSenior race 4 Miles \nStart Time\nSenior Race 10.30am \nCourse\nThe course is a flat out and back 4 miles heading West along Worthing promenade. A small portion of the course is run on grass. \nParking\nOn street parking is very limited close to the start the area\, we recommend using the towns multi-story car parks\, or the roads approx 800m to the West of the start location. \nBag Storage\nAdjacent to the race office is temporary storage for participants belongings during the race. Please note that space is limited and we cannot accept any responsibility for items left. \nRefreshments\nAvailable in the Lido adjacent to the Start/Finish. \nStart Location\nWorthing promenade\, outside the Lido.
URL:https://www.henfieldjoggers.co.uk/event/worthing-lido-4-mile-west-sussex-fun-run-league/
LOCATION:Worthing Splash Point\, Worthing Sea Front\, Worthing\, Bn11 2en\, United Kingdom
CATEGORIES:All Races,Fun Runs
END:VEVENT
END:VCALENDAR